BEGIN:VCALENDAR
PRODID:-//PUBBLE//agenda//NL
VERSION:2.0
METHOD:PUBLISH
BEGIN:VEVENT
DTSTART:20250224T094238Z
DTEND:20250302T140000Z
DTSTAMP:20260421T171058Z
UID:ac4e0467-5793-4eec-a109-faf652110837
CREATED:20260421T171058Z
NAME:Open dag boerderij uit Woeste Grond hartvanwierden.nl
X-WR-CALNAME:Open dag boerderij uit Woeste Grond
X-ALT-DESC;FMTTYPE=text/html:<a href='/agenda/2025/3/2/open-dag-boerderij-uit-woeste-grond-123538'>/agenda/2025/3/2/open-dag-boerderij-uit-woeste-grond-123538</a> || <p>HOGE HEXEL&nbsp;- Ontdek op zondag 2 maart de sets van de populaire AVROTROS-serie ‘Woeste Grond’ tijdens de open dag in Hoge Hexel. </p><p>De serie ‘Woeste Grond’ wordt gefilmd op boerderij De Weuste in Hoge Hexel. Op 2 maart is er een open dag waar geïnteresseerden de sets van deze serie over familie, kalverliefde en de uitdagingen van het moderne boerenleven kunnen bezoeken. Bezoekers kunnen onder andere een ritje op een trekker maken en een rondleiding over het erf krijgen. Enkele acteurs zullen gedurende dag ook de sets bezoeken. Daarnaast is de hond uit de serie, N’Oont, ook aanwezig. Momenteel worden er geen dieren, zoals kippen en kalveren, gehouden op de boerderij maar die zullen wel speciaal voor de open dag aanwezig zijn.&nbsp;</p><p>De open dag begint om 10.00 uur en duurt tot 16.00 uur. De Weuste is te vinden aan de Schaddenbeltsweg 6A te Hoge Hexel. Aanmelden kan via <a data-fr-linked="true" href="https://tinyurl.com/WoesteGrond" target="_blank">https://tinyurl.com/WoesteGrond</a>. Zo heeft de organisatie een beeld van het aantal bezoekers. De open dag is gratis te bezoeken.</p>
DESCRIPTION:<a href='/agenda/2025/3/2/open-dag-boerderij-uit-woeste-grond-123538'>/agenda/2025/3/2/open-dag-boerderij-uit-woeste-grond-123538</a> || <p>HOGE HEXEL&nbsp;- Ontdek op zondag 2 maart de sets van de populaire AVROTROS-serie ‘Woeste Grond’ tijdens de open dag in Hoge Hexel. </p><p>De serie ‘Woeste Grond’ wordt gefilmd op boerderij De Weuste in Hoge Hexel. Op 2 maart is er een open dag waar geïnteresseerden de sets van deze serie over familie, kalverliefde en de uitdagingen van het moderne boerenleven kunnen bezoeken. Bezoekers kunnen onder andere een ritje op een trekker maken en een rondleiding over het erf krijgen. Enkele acteurs zullen gedurende dag ook de sets bezoeken. Daarnaast is de hond uit de serie, N’Oont, ook aanwezig. Momenteel worden er geen dieren, zoals kippen en kalveren, gehouden op de boerderij maar die zullen wel speciaal voor de open dag aanwezig zijn.&nbsp;</p><p>De open dag begint om 10.00 uur en duurt tot 16.00 uur. De Weuste is te vinden aan de Schaddenbeltsweg 6A te Hoge Hexel. Aanmelden kan via <a data-fr-linked="true" href="https://tinyurl.com/WoesteGrond" target="_blank">https://tinyurl.com/WoesteGrond</a>. Zo heeft de organisatie een beeld van het aantal bezoekers. De open dag is gratis te bezoeken.</p>
LAST-MODIFIED:20260421T171058Z
LOCATION: De Weuste | Schaddenbeltsweg 6A 0,Hoge Hexel
SEQUENCE:0
STATUS:CONFIRMED
SUMMARY:Open dag boerderij uit Woeste Grond
TRANSP:OPAQUE
END:VEVENT
END:VCALENDAR
